BEGIN:VCALENDAR
VERSION:2.0
PRODID:-//Schloss-Schule Durlach - ECPv6.15.20//NONSGML v1.0//EN
CALSCALE:GREGORIAN
METHOD:PUBLISH
X-WR-CALNAME:Schloss-Schule Durlach
X-ORIGINAL-URL:https://schloss-schule-durlach.de
X-WR-CALDESC:Veranstaltungen für Schloss-Schule Durlach
REFRESH-INTERVAL;VALUE=DURATION:PT1H
X-Robots-Tag:noindex
X-PUBLISHED-TTL:PT1H
BEGIN:VTIMEZONE
TZID:Europe/Berlin
BEGIN:DAYLIGHT
TZOFFSETFROM:+0100
TZOFFSETTO:+0200
TZNAME:CEST
DTSTART:20230326T010000
END:DAYLIGHT
BEGIN:STANDARD
TZOFFSETFROM:+0200
TZOFFSETTO:+0100
TZNAME:CET
DTSTART:20231029T010000
END:STANDARD
BEGIN:DAYLIGHT
TZOFFSETFROM:+0100
TZOFFSETTO:+0200
TZNAME:CEST
DTSTART:20240331T010000
END:DAYLIGHT
BEGIN:STANDARD
TZOFFSETFROM:+0200
TZOFFSETTO:+0100
TZNAME:CET
DTSTART:20241027T010000
END:STANDARD
BEGIN:DAYLIGHT
TZOFFSETFROM:+0100
TZOFFSETTO:+0200
TZNAME:CEST
DTSTART:20250330T010000
END:DAYLIGHT
BEGIN:STANDARD
TZOFFSETFROM:+0200
TZOFFSETTO:+0100
TZNAME:CET
DTSTART:20251026T010000
END:STANDARD
END:VTIMEZONE
BEGIN:VEVENT
DTSTART;TZID=Europe/Berlin:20240724T081500
DTEND;TZID=Europe/Berlin:20240724T093000
DTSTAMP:20260422T151558
CREATED:20240701T172148Z
LAST-MODIFIED:20240721T194433Z
UID:542-1721808900-1721813400@schloss-schule-durlach.de
SUMMARY:Schulgottesdienst
DESCRIPTION:Am letzten Schultag findet der Schulgottesdienst der Schoss-Schule im Schlosspark Durlach statt. Bei schlechtem Wetter weichen wir in die Aula aus. \nFür die Klassenstufen 1 und 2 beginnt er um 8:15 Uhr\, für die Klassenstufen 3 und 4 um 9:00 Uhr. \nHerzliche Einladung an alle Schuleltern.
URL:https://schloss-schule-durlach.de/event/schulgottesdienst-in-der-ev-stadtkirche/
END:VEVENT
END:VCALENDAR